BEGIN:VCALENDAR
VERSION:2.0
PRODID:icalendar-ruby
CALSCALE:GREGORIAN
METHOD:PUBLISH
BEGIN:VEVENT
DTSTAMP:20260425T215418Z
UID:8-386530@christ-covenant.com
DTSTART:20261018T160000Z
DTEND:20261018T164500Z
CLASS:PUBLIC
CREATED:20260425T130828
DESCRIPTION:
LAST-MODIFIED:20260425T130828
LOCATION:Christ Covenant Church
SUMMARY:Sunday School
URL;VALUE=URI:https://christ-covenant.com/events/sunday-school/2026-10-18
ATTACH;FILENAME=Sunday-School-Web-Header.jpg;FMTTYPE=image/jpeg:https://dq5
 pwpg1q8ru0.cloudfront.net/2025/05/11/22/27/43/808ff498-5719-4908-8662-ef61
 dd7a899b/Sunday-School-Web-Header.jpg
END:VEVENT
END:VCALENDAR
